BEGIN:VCALENDAR
VERSION:2.0
PRODID:Imitheme.com 
BEGIN:VEVENT
UID:20260421T122611104713834
DTSTAMP;TZID=UTC:2026-04-21 12:26:11
DTSTART;TZID=America/Los_Angeles:20220908T000000
DTEND;TZID=America/Los_Angeles:20220908T000000
SUMMARY:SEC-Tour Garden 2022
LOCATION:Granada Konferencia\, Wellness és Sport Hotel (6000 Kecskemét\, Harmónia utca 12)
DESCRIPTION:Felgyorsult világunkban napi szinten találkozunk IT biztonsági incidensekkel, hallunk a médiából és a szakmából számtalan mennyiségben ezekről. Nem érezheti egy IT szakember sem eléggé biztonságba a cégét. Nincs más út mint folyamatosan tanulva figyelemmel kisérni a biztonsági piac alakulását. Fontos látni és tudni mindent a különböző biztonsági technológiákról, és persze tisztában lenni a hazai szolgáltatók kompetenciájával is. Ezt mind folyamatosan nyomon követni szinte lehetetlen feladat a napi munka mellett. Ezért van szükség olyan hazai IT biztonsági rendezvényekre, ahol egy időben egy helyen a legtöbb információ gyűjthető össze lehetőleg sallangmentesen. A SEC-Tour Konferencia célja kezdetektől fogva ugyan az maradt, egy asztalhoz ültetni az információbiztonság fejlesztéséért tenni vágyó IT és információbiztonsági vezetőket, valamint a szegmensben működő vállalkozásokat olyan környezetben, ahol a stratégiai és szakmai beszélgetéseken kívül a kapcsolatépítésé a főszerep. Munkatársunk 2022.09.09-én, pénteken, 12:50-től tart előadást \"Technológiai adaptációs tanácsadás – hatékonyan a felhőben\" címmel, fogadjátok őt szeretettel. Regisztrálok Az előadó Bátorfi Zsolt Bátorfi Zsolt több mint 20 éves szoftvermérnöki és technológiai tanácsadási gyakorlattal a háta mögött készen áll arra, hogy támogassa a felhőszolgáltatások bevezetését és optimalizálását a Te vállalatodnál is. Szakértelme a Microsoft teljes ökoszisztémájára és azon túl is kiterjed – otthonosan mozog az Azure, a Power Platform, a Microsoft 365 és más egyedi nagyvállalati IT-megoldások területén is.
URL:https://hrpconsulting.hu/eventer/sec-tour-garden-2022/
END:VEVENT
END:VCALENDAR
